BEGIN:VCALENDAR
VERSION:2.0
PRODID:-//РТРС КУЛТУРА - ECPv6.15.17.1//NONSGML v1.0//EN
CALSCALE:GREGORIAN
METHOD:PUBLISH
X-ORIGINAL-URL:https://kultura.rtrs.tv
X-WR-CALDESC:Events for РТРС КУЛТУРА
REFRESH-INTERVAL;VALUE=DURATION:PT1H
X-Robots-Tag:noindex
X-PUBLISHED-TTL:PT1H
BEGIN:VTIMEZONE
TZID:Europe/Belgrade
BEGIN:DAYLIGHT
TZOFFSETFROM:+0100
TZOFFSETTO:+0200
TZNAME:CEST
DTSTART:20240331T010000
END:DAYLIGHT
BEGIN:STANDARD
TZOFFSETFROM:+0200
TZOFFSETTO:+0100
TZNAME:CET
DTSTART:20241027T010000
END:STANDARD
BEGIN:DAYLIGHT
TZOFFSETFROM:+0100
TZOFFSETTO:+0200
TZNAME:CEST
DTSTART:20250330T010000
END:DAYLIGHT
BEGIN:STANDARD
TZOFFSETFROM:+0200
TZOFFSETTO:+0100
TZNAME:CET
DTSTART:20251026T010000
END:STANDARD
BEGIN:DAYLIGHT
TZOFFSETFROM:+0100
TZOFFSETTO:+0200
TZNAME:CEST
DTSTART:20260329T010000
END:DAYLIGHT
BEGIN:STANDARD
TZOFFSETFROM:+0200
TZOFFSETTO:+0100
TZNAME:CET
DTSTART:20261025T010000
END:STANDARD
END:VTIMEZONE
BEGIN:VEVENT
DTSTART;TZID=Europe/Belgrade:20251129T203000
DTEND;TZID=Europe/Belgrade:20251129T203000
DTSTAMP:20260419T154223
CREATED:20250414T064839Z
LAST-MODIFIED:20251124T101209Z
UID:4738-1764448200-1764448200@kultura.rtrs.tv
SUMMARY:Челичне магнолије @ Народно позориште Републике Српске
DESCRIPTION:Представа Челичне магнолије у Народном позоришту Републике Српске. \nизвор: np.rs.ba\n12+ \n\nПисац: Роберт Харлинг\nПревод: Иван Матковић\nРежија: Ана Григоровић\nСценографија: Марко Билбија\nКостимографија: Ивана Ристић\nСценски покрет: Емир Фејзић\nМузика: Петар Билбија\nЛектор: Наташа Кецман\nИнспицијент / Суфлер: Весна Максимовић\nДраматург на пракси: Никола Станишић*\n\n*студент треће године Драматургије на Академији умјетности Бања Лука\, у класи проф. др Ивана Правдића и асистента мр Милана Гајића. \nПредстава траје 90 минута \nПремијера: 23. 12. 2023. \n\nУлоге: \n\nТруви Џоунс: Сњежана Мишић\nАнел Дупуи-Десото: Божана Кукило\nKлери Белчер: Драгана Марић\nШелби Итентон-Лечери: Дана Полетан\nМери Лин Итентон: Слађана Зрнић\nВизер Будро: Ведрана Мачковић
URL:https://kultura.rtrs.tv/event/celicne-magnolije-narodno-pozoriste-republike-srpske/
LOCATION:Народно позориште Републике Српске\, Kralja Petra I Karađorđevića 78\, Banja Luka\, 78000\, Bosnia and Herzegovina
ATTACH;FMTTYPE=image/jpeg:https://kultura.rtrs.tv/wp-content/uploads/2025/01/NPRS.jpg
ORGANIZER;CN="%D0%9D%D0%B0%D1%80%D0%BE%D0%B4%D0%BD%D0%BE %D0%BF%D0%BE%D0%B7%D0%BE%D1%80%D0%B8%D1%88%D1%82%D0%B5 %D0%A0%D0%B5%D0%BF%D1%83%D0%B1%D0%BB%D0%B8%D0%BA%D0%B5 %D0%A1%D1%80%D0%BF%D1%81%D0%BA%D0%B5":MAILTO:uprava@narodnopozoristers.com
END:VEVENT
END:VCALENDAR